BEGIN:VCALENDAR
VERSION:2.0
PRODID:-//RickSherman.com - ECPv6.15.20//NONSGML v1.0//EN
CALSCALE:GREGORIAN
METHOD:PUBLISH
X-ORIGINAL-URL:https://www.ricksherman.com
X-WR-CALDESC:Events for RickSherman.com
REFRESH-INTERVAL;VALUE=DURATION:PT1H
X-Robots-Tag:noindex
X-PUBLISHED-TTL:PT1H
BEGIN:VTIMEZONE
TZID:America/Los_Angeles
BEGIN:DAYLIGHT
TZOFFSETFROM:-0800
TZOFFSETTO:-0700
TZNAME:PDT
DTSTART:20220313T100000
END:DAYLIGHT
BEGIN:STANDARD
TZOFFSETFROM:-0700
TZOFFSETTO:-0800
TZNAME:PST
DTSTART:20221106T090000
END:STANDARD
BEGIN:DAYLIGHT
TZOFFSETFROM:-0800
TZOFFSETTO:-0700
TZNAME:PDT
DTSTART:20230312T100000
END:DAYLIGHT
BEGIN:STANDARD
TZOFFSETFROM:-0700
TZOFFSETTO:-0800
TZNAME:PST
DTSTART:20231105T090000
END:STANDARD
BEGIN:DAYLIGHT
TZOFFSETFROM:-0800
TZOFFSETTO:-0700
TZNAME:PDT
DTSTART:20240310T100000
END:DAYLIGHT
BEGIN:STANDARD
TZOFFSETFROM:-0700
TZOFFSETTO:-0800
TZNAME:PST
DTSTART:20241103T090000
END:STANDARD
END:VTIMEZONE
BEGIN:VEVENT
DTSTART;TZID=America/Los_Angeles:20230107T180000
DTEND;TZID=America/Los_Angeles:20230107T213000
DTSTAMP:20260425T162508
CREATED:20230106T001554Z
LAST-MODIFIED:20230106T034838Z
UID:1602-1673114400-1673127000@www.ricksherman.com
SUMMARY:RICK'S FIRST PUBLIC PERFORMANCE OF 2023!
DESCRIPTION:THIS SATURDAY\, JANUARY 7th (6pm to 9:30pm) RICK SHERMAN (frequently with musician and vocalist friends\, who are welcome to sit in) performing in the intimate Piano Room at Vittorio’s Italian Restaurant\, for the first public performance of 2023! Playing a wide variety of music\, Rick takes requests\, and … since you’re taking the time to read this\, don’t forget that Rick will be doing the same thing next Saturday\, on January 14th! \nThe Italian cuisine by Chef Francisco is excellent (matching the music\, of course :-)\n5921 Warner Avenue\, Huntington Beach\, CA 92649 (In the shopping center at the Northwest corner of Warner & Springdale\, between Petco & Rite Aid). Reservations “in the Piano Room” are not required\, but recommended. (714) 846-9606 (call after 4:30pm)
URL:https://www.ricksherman.com/event/ricks-first-public-performance-of-2023/
LOCATION:CA
END:VEVENT
BEGIN:VEVENT
DTSTART;TZID=America/Los_Angeles:20230114T180000
DTEND;TZID=America/Los_Angeles:20230114T213000
DTSTAMP:20260425T162508
CREATED:20230106T034146Z
LAST-MODIFIED:20230106T034750Z
UID:1604-1673719200-1673731800@www.ricksherman.com
SUMMARY:RICK'S 2ND PUBLIC PERFORMANCE OF 2023!
DESCRIPTION:THIS SATURDAY\, JANUARY 14th (6pm to 9:30pm) RICK SHERMAN (frequently with musician and vocalist friends\, who are welcome to sit in) performing in the intimate Piano Room at Vittorio’s Italian Restaurant\, for his 2nd public performance of 2023! Playing a wide variety of music\, Rick takes requests! \nThe Italian cuisine by Chef Francisco is excellent (matching the music\, of course :-)\n5921 Warner Avenue\, Huntington Beach\, CA 92649 (In the shopping center at the Northwest corner of Warner & Springdale\, between Petco & Rite Aid). Reservations “in the Piano Room” are not required\, but recommended. (714) 846-9606 (call after 4:30pm)
URL:https://www.ricksherman.com/event/ricks-2nd-public-performance-of-2023/
LOCATION:CA
END:VEVENT
END:VCALENDAR