BEGIN:VCALENDAR
VERSION:2.0
PRODID:-//RickSherman.com - ECPv6.15.20//NONSGML v1.0//EN
CALSCALE:GREGORIAN
METHOD:PUBLISH
X-ORIGINAL-URL:https://www.ricksherman.com
X-WR-CALDESC:Events for RickSherman.com
REFRESH-INTERVAL;VALUE=DURATION:PT1H
X-Robots-Tag:noindex
X-PUBLISHED-TTL:PT1H
BEGIN:VTIMEZONE
TZID:America/Los_Angeles
BEGIN:DAYLIGHT
TZOFFSETFROM:-0800
TZOFFSETTO:-0700
TZNAME:PDT
DTSTART:20220313T100000
END:DAYLIGHT
BEGIN:STANDARD
TZOFFSETFROM:-0700
TZOFFSETTO:-0800
TZNAME:PST
DTSTART:20221106T090000
END:STANDARD
BEGIN:DAYLIGHT
TZOFFSETFROM:-0800
TZOFFSETTO:-0700
TZNAME:PDT
DTSTART:20230312T100000
END:DAYLIGHT
BEGIN:STANDARD
TZOFFSETFROM:-0700
TZOFFSETTO:-0800
TZNAME:PST
DTSTART:20231105T090000
END:STANDARD
BEGIN:DAYLIGHT
TZOFFSETFROM:-0800
TZOFFSETTO:-0700
TZNAME:PDT
DTSTART:20240310T100000
END:DAYLIGHT
BEGIN:STANDARD
TZOFFSETFROM:-0700
TZOFFSETTO:-0800
TZNAME:PST
DTSTART:20241103T090000
END:STANDARD
END:VTIMEZONE
BEGIN:VEVENT
DTSTART;TZID=America/Los_Angeles:20230506T180000
DTEND;TZID=America/Los_Angeles:20230506T213000
DTSTAMP:20260425T103500
CREATED:20230429T192542Z
LAST-MODIFIED:20230429T192542Z
UID:1638-1683396000-1683408600@www.ricksherman.com
SUMMARY:NEW VENUE FOR RICK: PERFORMING FOR THE FIRST TIME AT CASPIAN MEDITERRANEAN KITCHEN!
DESCRIPTION:This Saturday\, May 6th\, 6:00pm to 9:30pm\, RICK SHERMAN (frequently with guest musician and vocalist friends) performing for the FIRST TIME at the beautiful CASPIAN MEDITERRANEAN KITCHEN in Foothill Ranch! Playing a wide variety of music\, Rick takes requests! \nThe Mediterranean cuisine is EXCELLENT (as is the music\, I’ve heard :-)\nCaspian Mediterranean Kitchen is at 26672 Portola Parkway\, Foothill Ranch\, CA 92610\nIn the shopping center near the intersection of Bake Parkway and Portola Parkway\, close to the Target department store.\nhttps://www.caspianrestaurant.com   Call (949) 651-8454 for reservations
URL:https://www.ricksherman.com/event/new-venue-for-rick-performing-for-the-first-time-at-caspian-mediterranean-kitchen/
LOCATION:CA
END:VEVENT
BEGIN:VEVENT
DTSTART;TZID=America/Los_Angeles:20230511T183000
DTEND;TZID=America/Los_Angeles:20230511T203000
DTSTAMP:20260425T103500
CREATED:20230106T044048Z
LAST-MODIFIED:20230106T044048Z
UID:1617-1683829800-1683837000@www.ricksherman.com
SUMMARY:ANNUAL ORANGE COUNTY BUSINESS JOURNAL "CFO OF THE YEAR AWARDS" DINNER
DESCRIPTION:Rick Sherman is once again providing live music for the Annual Orange County Business Journal “CFO Of The Year Awards” dinner at the Irvine Marriott Hotel. Online Pre-registration is required.
URL:https://www.ricksherman.com/event/annual-orange-county-business-journal-cfo-of-the-year-awards-dinner/
LOCATION:CA
END:VEVENT
BEGIN:VEVENT
DTSTART;TZID=America/Los_Angeles:20230513T180000
DTEND;TZID=America/Los_Angeles:20230513T213000
DTSTAMP:20260425T103500
CREATED:20230106T050332Z
LAST-MODIFIED:20230106T050332Z
UID:1622-1684000800-1684013400@www.ricksherman.com
SUMMARY:RICK SHERMAN PERFORMS AT VITTORIO'S ITALIAN RESTAURANT
DESCRIPTION:THIS SATURDAY\, MAY 13th (6pm to 9:30pm) RICK SHERMAN (frequently with musician and vocalist friends\, who are welcome to sit in) performing in the intimate Piano Room at Vittorio’s (despite having a mild case of Triskaidekaphoibia). Playing a wide variety of music\, Rick takes requests! \nThe Italian cuisine by Chef Francisco is excellent (matching the music\, of course :-)\n5921 Warner Avenue\, Huntington Beach\, CA 92649 (In the shopping center at the Northwest corner of Warner & Springdale\, between Petco & Rite Aid). Reservations “in the Piano Room” are not required\, but recommended. (714) 846-9606 (call after 4:30pm)
URL:https://www.ricksherman.com/event/rick-sherman-performs-at-vittorios-italian-restaurant-14/
LOCATION:CA
END:VEVENT
BEGIN:VEVENT
DTSTART;TZID=America/Los_Angeles:20230521T130000
DTEND;TZID=America/Los_Angeles:20230521T170000
DTSTAMP:20260425T103500
CREATED:20230422T214448Z
LAST-MODIFIED:20230422T214448Z
UID:1628-1684674000-1684688400@www.ricksherman.com
SUMMARY:THE RICK SHERMAN DUO AT THE BALBOA ISLAND ARTWALK
DESCRIPTION:SUNDAY\, MAY 21st\, 1:00 pm to 5:00 pm\nThe Rick Sherman Duo (Rick\, with Paul Navidad on sax\, and some vocals too) performing for the “umpteenth” time for the ANNUAL BALBOA ISLAND ARTWALK! \nIf you’ve never attended the Artwalk\, you really owe it to yourself and your family to come join us on this Sunday. A great way to spend a Sunday with friends and family\, the Artwalk combines displays of excellent local artists\, fantastic live music (if we do say so ourselves ;-)\, fresh coastal air\, and a panoramic view of world-renowned Newport Harbor.  \nWe will be performing outdoors on South Bayfront (the “boardwalk/promenade”)\, at 526 South Bayfront\, between Turquoise Avenue and Topaz Avenue (but much closer to Topaz)\, on Balboa Island (zip code 92662; NOT Balboa Peninsula). Come early to enjoy our good friend Gary Gould on sax and penny-whistle (and maybe theremin too)\, from 9am to 12pm\, “warming up our spot”.
URL:https://www.ricksherman.com/event/the-rick-sherman-duo-at-the-balboa-island-artwalk-3/
LOCATION:CA
END:VEVENT
BEGIN:VEVENT
DTSTART;TZID=America/Los_Angeles:20230531T120000
DTEND;TZID=America/Los_Angeles:20230531T140000
DTSTAMP:20260425T103500
CREATED:20230106T045004Z
LAST-MODIFIED:20230106T045004Z
UID:1619-1685534400-1685541600@www.ricksherman.com
SUMMARY:ANNUAL ORANGE COUNTY BUSINESS JOURNAL "FAMILY-OWNED BUSINESS AWARDS" LUNCHEON
DESCRIPTION:Rick Sherman is once again providing live music for the Annual Orange County Business Journal “Family-Owned Business Awards” luncheon at the Irvine Marriott Hotel. Online Pre-registration is required.
URL:https://www.ricksherman.com/event/annual-orange-county-business-journal-family-owned-business-awards-luncheon/
LOCATION:CA
END:VEVENT
END:VCALENDAR