BEGIN:VCALENDAR
VERSION:2.0
PRODID:-//RickSherman.com - ECPv6.15.20//NONSGML v1.0//EN
CALSCALE:GREGORIAN
METHOD:PUBLISH
X-WR-CALNAME:RickSherman.com
X-ORIGINAL-URL:https://www.ricksherman.com
X-WR-CALDESC:Events for RickSherman.com
REFRESH-INTERVAL;VALUE=DURATION:PT1H
X-Robots-Tag:noindex
X-PUBLISHED-TTL:PT1H
BEGIN:VTIMEZONE
TZID:America/Los_Angeles
BEGIN:DAYLIGHT
TZOFFSETFROM:-0800
TZOFFSETTO:-0700
TZNAME:PDT
DTSTART:20220313T100000
END:DAYLIGHT
BEGIN:STANDARD
TZOFFSETFROM:-0700
TZOFFSETTO:-0800
TZNAME:PST
DTSTART:20221106T090000
END:STANDARD
BEGIN:DAYLIGHT
TZOFFSETFROM:-0800
TZOFFSETTO:-0700
TZNAME:PDT
DTSTART:20230312T100000
END:DAYLIGHT
BEGIN:STANDARD
TZOFFSETFROM:-0700
TZOFFSETTO:-0800
TZNAME:PST
DTSTART:20231105T090000
END:STANDARD
BEGIN:DAYLIGHT
TZOFFSETFROM:-0800
TZOFFSETTO:-0700
TZNAME:PDT
DTSTART:20240310T100000
END:DAYLIGHT
BEGIN:STANDARD
TZOFFSETFROM:-0700
TZOFFSETTO:-0800
TZNAME:PST
DTSTART:20241103T090000
END:STANDARD
END:VTIMEZONE
BEGIN:VEVENT
DTSTART;TZID=America/Los_Angeles:20230604T100000
DTEND;TZID=America/Los_Angeles:20230604T140000
DTSTAMP:20260425T085526
CREATED:20230422T221603Z
LAST-MODIFIED:20230422T221603Z
UID:1630-1685872800-1685887200@www.ricksherman.com
SUMMARY:THE RICK SHERMAN DUO AT THE BALBOA ISLAND PARADE!
DESCRIPTION:THE 28TH ANNUAL BALBOA ISLAND PARADE & AFTER PARTY!!!\nSUNDAY\, JUNE 4th. 10 am-THE RICK SHERMAN DUO starts performing; 10:45 am-the bridge closes; 11 am-The Parade Starts; After Party\, after the Parade (DUH!!!) The theme of the Parade this year is” “Horsin’ Around Island Style”. Naturally\, we will be performing many classic Country and Western songs!! \nThe Rick Sherman Duo (with Guitarist Tom Bevan) will be up on the Grandstand Stage to help with the festivities of one of the world’s greatest little parades! The Grandstand Stage is next to Shanghai Pine Gardens Restaurant\, at the intersection of Balboa Ave. and Marine Avenue (the main street of Balboa Island\, also known as “the south end of Jamboree Road”). The Rick Sherman Duo start performing at 10:00am\, the bridge closes at 10:45am\, and the parade starts at 11:00am. This is a great slice of Americana\, and a fun day outdoors for the entire family! Add to the festivities by wearing your favorite Country & Western clothes. Also\, please note that immediately after the parade (roughly anytime between 12:45pm to 1:45pm)\, there will be a fun Street After-Party\, halfway between the Fire Station and the Village Inn\, with the great band “The Fabulous Nomads”!
URL:https://www.ricksherman.com/event/the-rick-sherman-duo-at-the-balboa-island-parade-2/
LOCATION:CA
END:VEVENT
BEGIN:VEVENT
DTSTART;TZID=America/Los_Angeles:20230610T180000
DTEND;TZID=America/Los_Angeles:20230610T213000
DTSTAMP:20260425T085526
CREATED:20230422T222329Z
LAST-MODIFIED:20230422T222329Z
UID:1632-1686420000-1686432600@www.ricksherman.com
SUMMARY:RICK SHERMAN PERFORMS AT VITTORIO'S ITALIAN RESTAURANT
DESCRIPTION:THIS SATURDAY\, JUNE 10th (6pm to 9:30pm) RICK SHERMAN (frequently with musician and vocalist friends\, who are welcome to sit in) performing in the intimate Piano Room at Vittorio’s. Playing a wide variety of music\, Rick takes requests! \nThe Italian cuisine by Chef Francisco is excellent (matching the music\, of course :-)\n5921 Warner Avenue\, Huntington Beach\, CA 92649 (In the shopping center at the Northwest corner of Warner & Springdale\, between Petco & Rite Aid). Reservations “in the Piano Room” are not required\, but recommended. (714) 846-9606 (call after 4:30pm)
URL:https://www.ricksherman.com/event/rick-sherman-performs-at-vittorios-italian-restaurant-15/
LOCATION:CA
END:VEVENT
END:VCALENDAR