BEGIN:VCALENDAR
VERSION:2.0
PRODID:-//RickSherman.com - ECPv6.15.20//NONSGML v1.0//EN
CALSCALE:GREGORIAN
METHOD:PUBLISH
X-ORIGINAL-URL:https://www.ricksherman.com
X-WR-CALDESC:Events for RickSherman.com
REFRESH-INTERVAL;VALUE=DURATION:PT1H
X-Robots-Tag:noindex
X-PUBLISHED-TTL:PT1H
BEGIN:VTIMEZONE
TZID:America/Los_Angeles
BEGIN:DAYLIGHT
TZOFFSETFROM:-0800
TZOFFSETTO:-0700
TZNAME:PDT
DTSTART:20220313T100000
END:DAYLIGHT
BEGIN:STANDARD
TZOFFSETFROM:-0700
TZOFFSETTO:-0800
TZNAME:PST
DTSTART:20221106T090000
END:STANDARD
BEGIN:DAYLIGHT
TZOFFSETFROM:-0800
TZOFFSETTO:-0700
TZNAME:PDT
DTSTART:20230312T100000
END:DAYLIGHT
BEGIN:STANDARD
TZOFFSETFROM:-0700
TZOFFSETTO:-0800
TZNAME:PST
DTSTART:20231105T090000
END:STANDARD
BEGIN:DAYLIGHT
TZOFFSETFROM:-0800
TZOFFSETTO:-0700
TZNAME:PDT
DTSTART:20240310T100000
END:DAYLIGHT
BEGIN:STANDARD
TZOFFSETFROM:-0700
TZOFFSETTO:-0800
TZNAME:PST
DTSTART:20241103T090000
END:STANDARD
END:VTIMEZONE
BEGIN:VEVENT
DTSTART;TZID=America/Los_Angeles:20230812T180000
DTEND;TZID=America/Los_Angeles:20230812T213000
DTSTAMP:20260425T055921
CREATED:20230422T223155Z
LAST-MODIFIED:20230422T223155Z
UID:1636-1691863200-1691875800@www.ricksherman.com
SUMMARY:RICK SHERMAN PERFORMS AT VITTORIO'S ITALIAN RESTAURANT
DESCRIPTION:THIS SATURDAY\, AUGUST 12th (6pm to 9:30pm) RICK SHERMAN (frequently with musician and vocalist friends\, who are welcome to sit in) performing in the intimate Piano Room at Vittorio’s. Playing a wide variety of music\, Rick takes requests! \nThe Italian cuisine by Chef Francisco is excellent (matching the music\, of course :-)\n5921 Warner Avenue\, Huntington Beach\, CA 92649 (In the shopping center at the Northwest corner of Warner & Springdale\, between Petco & Rite Aid). Reservations “in the Piano Room” are not required\, but recommended. (714) 846-9606 (call after 4:30pm)
URL:https://www.ricksherman.com/event/rick-sherman-performs-at-vittorios-italian-restaurant-17/
LOCATION:CA
END:VEVENT
BEGIN:VEVENT
DTSTART;TZID=America/Los_Angeles:20230824T190000
DTEND;TZID=America/Los_Angeles:20230824T213000
DTSTAMP:20260425T055921
CREATED:20230613T050647Z
LAST-MODIFIED:20230728T011048Z
UID:1641-1692903600-1692912600@www.ricksherman.com
SUMMARY:RICK SHERMAN'S 45-YEAR VILLAGE INN ANNIVERSARY CELEBRATION
DESCRIPTION:I truly hope you can join me this Thursday\, to celebrate a special performance-venue-anniversary for FORTY-FIVE YEARS\, WELL OVER HALF MY LIFE (Approximately 63%): \nTHIS THURSDAY\, AUGUST 24TH! 7:00pm to 9:30pm. \nRICK SHERMAN’S 45-YEAR VILLAGE INN ANNIVERSARY! \nIt’s not a misprint. Rick started performing at the Village Inn over 45 years ago\, in May of 1978\, at the age of 26! Rick is presently working for the 5th owner of the V.I. since starting there. \n    THE VILLAGE INN\n127 Marine Avenue\, Balboa Island\, 92662  (949) 675-8300\n7:00 pm to 9:30 pm \nPersonal Note: I know that this is going to be a very emotional\, memorable night for me\, due to so many memories connected with my performances at the Village Inn over the past 4 and 1/2 decades. I truly hope you can join me! \nSince this is on Thursday night\, Island parking should be more available than the usual Friday or Saturday. To insure that seating is available for all in your party\, please MAKE RESERVATIONS FOR SEATING IN THE MUSIC LOUNGE by calling the Village Inn at (949) 675-8300.
URL:https://www.ricksherman.com/event/rick-shermans-45-year-village-inn-anniversary-celebration/
LOCATION:CA
END:VEVENT
END:VCALENDAR