BEGIN:VCALENDAR
VERSION:2.0
PRODID:-//RickSherman.com - ECPv6.15.20//NONSGML v1.0//EN
CALSCALE:GREGORIAN
METHOD:PUBLISH
X-WR-CALNAME:RickSherman.com
X-ORIGINAL-URL:https://www.ricksherman.com
X-WR-CALDESC:Events for RickSherman.com
REFRESH-INTERVAL;VALUE=DURATION:PT1H
X-Robots-Tag:noindex
X-PUBLISHED-TTL:PT1H
BEGIN:VTIMEZONE
TZID:America/Los_Angeles
BEGIN:DAYLIGHT
TZOFFSETFROM:-0800
TZOFFSETTO:-0700
TZNAME:PDT
DTSTART:20230312T100000
END:DAYLIGHT
BEGIN:STANDARD
TZOFFSETFROM:-0700
TZOFFSETTO:-0800
TZNAME:PST
DTSTART:20231105T090000
END:STANDARD
BEGIN:DAYLIGHT
TZOFFSETFROM:-0800
TZOFFSETTO:-0700
TZNAME:PDT
DTSTART:20240310T100000
END:DAYLIGHT
BEGIN:STANDARD
TZOFFSETFROM:-0700
TZOFFSETTO:-0800
TZNAME:PST
DTSTART:20241103T090000
END:STANDARD
BEGIN:DAYLIGHT
TZOFFSETFROM:-0800
TZOFFSETTO:-0700
TZNAME:PDT
DTSTART:20250309T100000
END:DAYLIGHT
BEGIN:STANDARD
TZOFFSETFROM:-0700
TZOFFSETTO:-0800
TZNAME:PST
DTSTART:20251102T090000
END:STANDARD
END:VTIMEZONE
BEGIN:VEVENT
DTSTART;TZID=America/Los_Angeles:20240210T180000
DTEND;TZID=America/Los_Angeles:20240210T213000
DTSTAMP:20260424T205406
CREATED:20240109T052151Z
LAST-MODIFIED:20240109T052151Z
UID:1677-1707588000-1707600600@www.ricksherman.com
SUMMARY:RICK SHERMAN PERFORMS AT VITTORIO'S ITALIAN RESTAURANT
DESCRIPTION:THIS SATURDAY\, FEBRUARY 10th (6pm to 9:30pm) RICK SHERMAN (frequently with musician and vocalist friends\, who are welcome to sit in) performing in the intimate Piano Room at Vittorio’s! Playing a wide variety of music\, Rick takes requests! \nThe Italian cuisine by Chef Francisco is excellent (matching the music\, of course :-) \n(In the shopping center at the Northwest corner of the intersection of Warner Avenue & Springdale\, between Rite Aid and Petco. Please note: also in the same shopping center is The Beef Palace\, AND in the same shopping center parking lot\, an Arco gas station with the lowest gas prices I’ve found in OC).\nVittorio’s phone number is (714) 846-9606 (reservations “in the piano room” are not required but recommended. Call after 5:00pm).
URL:https://www.ricksherman.com/event/rick-sherman-performs-at-vittorios-italian-restaurant-23/
LOCATION:CA
END:VEVENT
END:VCALENDAR