BEGIN:VCALENDAR
VERSION:2.0
PRODID:-//RickSherman.com - ECPv6.15.20//NONSGML v1.0//EN
CALSCALE:GREGORIAN
METHOD:PUBLISH
X-ORIGINAL-URL:https://www.ricksherman.com
X-WR-CALDESC:Events for RickSherman.com
REFRESH-INTERVAL;VALUE=DURATION:PT1H
X-Robots-Tag:noindex
X-PUBLISHED-TTL:PT1H
BEGIN:VTIMEZONE
TZID:America/Los_Angeles
BEGIN:DAYLIGHT
TZOFFSETFROM:-0800
TZOFFSETTO:-0700
TZNAME:PDT
DTSTART:20230312T100000
END:DAYLIGHT
BEGIN:STANDARD
TZOFFSETFROM:-0700
TZOFFSETTO:-0800
TZNAME:PST
DTSTART:20231105T090000
END:STANDARD
BEGIN:DAYLIGHT
TZOFFSETFROM:-0800
TZOFFSETTO:-0700
TZNAME:PDT
DTSTART:20240310T100000
END:DAYLIGHT
BEGIN:STANDARD
TZOFFSETFROM:-0700
TZOFFSETTO:-0800
TZNAME:PST
DTSTART:20241103T090000
END:STANDARD
BEGIN:DAYLIGHT
TZOFFSETFROM:-0800
TZOFFSETTO:-0700
TZNAME:PDT
DTSTART:20250309T100000
END:DAYLIGHT
BEGIN:STANDARD
TZOFFSETFROM:-0700
TZOFFSETTO:-0800
TZNAME:PST
DTSTART:20251102T090000
END:STANDARD
END:VTIMEZONE
BEGIN:VEVENT
DTSTART;TZID=America/Los_Angeles:20240602T100000
DTEND;TZID=America/Los_Angeles:20240602T160000
DTSTAMP:20260424T145540
CREATED:20240407T014243Z
LAST-MODIFIED:20240407T014243Z
UID:1702-1717322400-1717344000@www.ricksherman.com
SUMMARY:THE RICK SHERMAN DUO AT THE 29TH ANNUAL BALBOA ISLAND PARADE!
DESCRIPTION:THE 29TH ANNUAL BALBOA ISLAND PARADE & AFTER PARTY!!!\nSUNDAY\, JUNE 2nd\, THE RICK SHERMAN DUO starts performing at 10:00 AM; 10:45 AM-the bridge closes; 11 AM-The Parade Starts; After Party\, after the Parade (DUH!!!) The theme of the Parade this year is”BALBOA ISLAND IN PARADISE – A TRIBUTE TO JIMMY BUFFET”. Naturally\, we will be performing many of the classic songs by the late\, great Jimmy Buffet!! \nThe Rick Sherman Duo will be up on the Grandstand Stage to help with the festivities of one of the world’s greatest little parades! The Grandstand Stage is next to Shanghai Pine Gardens Restaurant\, at the intersection of Balboa Ave. and Marine Avenue (the main street of Balboa Island\, also known as “the south end of Jamboree Road”). The Rick Sherman Duo start performing at 10:00am\, the bridge closes at 10:45am\, and the parade starts at 11:00am. This is a great slice of Americana\, and a fun day outdoors for the entire family! Add to the festivities by wearing your favorite Jimmy Buffet/style clothes (Parrot Head/Cheeseburger shirts and hats). Also\, please note that immediately after the parade (roughly anytime between 12:45pm to 1:45pm)\, there will be a fun Street After-Party\, halfway between the Fire Station and the Village Inn\, with the great band “Mark Wood and the Parrot Head Band”!
URL:https://www.ricksherman.com/event/the-rick-sherman-duo-at-the-29th-annual-balboa-island-parade/
LOCATION:CA
END:VEVENT
BEGIN:VEVENT
DTSTART;TZID=America/Los_Angeles:20240608T180000
DTEND;TZID=America/Los_Angeles:20240608T213000
DTSTAMP:20260424T145540
CREATED:20240407T013026Z
LAST-MODIFIED:20240616T221951Z
UID:1700-1717869600-1717882200@www.ricksherman.com
SUMMARY:RICK SHERMAN PERFORMS THIS SATURDAY AT VITTORIO'S ITALIAN RESTAURANT
DESCRIPTION:THIS SATURDAY\, JUNE 8th (6pm to 9:30pm) RICK SHERMAN (frequently with musician and vocalist friends\, who are welcome to sit in) performing in the intimate Piano Room at Vittorio’s! Playing a wide variety of music\, Rick takes requests! \nThe Italian cuisine by Chef Francisco is excellent (matching the music\, of course :-) \nVittorio’s Restaurant is at 5921 Warner Avenue\, Huntington Beach\, CA 92649. In the shopping center at the Northwest corner of the intersection of Warner Avenue & Springdale\, between Rite Aid and Petco. Please note: also in the same shopping center is The Beef Palace\, AND in the same shopping center parking lot\, an Arco gas station with the lowest gas prices I’ve found in OC.\nVittorio’s phone number is (714) 846-9606 (reservations “in the piano room” are not required but recommended. Call after 5:00pm).
URL:https://www.ricksherman.com/event/rick-sherman-performs-this-saturday-at-vittorios-italian-restaurant-4/
LOCATION:CA
END:VEVENT
END:VCALENDAR