BEGIN:VCALENDAR
VERSION:2.0
PRODID:-//RickSherman.com - ECPv6.15.20//NONSGML v1.0//EN
CALSCALE:GREGORIAN
METHOD:PUBLISH
X-ORIGINAL-URL:https://www.ricksherman.com
X-WR-CALDESC:Events for RickSherman.com
REFRESH-INTERVAL;VALUE=DURATION:PT1H
X-Robots-Tag:noindex
X-PUBLISHED-TTL:PT1H
BEGIN:VTIMEZONE
TZID:America/Los_Angeles
BEGIN:DAYLIGHT
TZOFFSETFROM:-0800
TZOFFSETTO:-0700
TZNAME:PDT
DTSTART:20230312T100000
END:DAYLIGHT
BEGIN:STANDARD
TZOFFSETFROM:-0700
TZOFFSETTO:-0800
TZNAME:PST
DTSTART:20231105T090000
END:STANDARD
BEGIN:DAYLIGHT
TZOFFSETFROM:-0800
TZOFFSETTO:-0700
TZNAME:PDT
DTSTART:20240310T100000
END:DAYLIGHT
BEGIN:STANDARD
TZOFFSETFROM:-0700
TZOFFSETTO:-0800
TZNAME:PST
DTSTART:20241103T090000
END:STANDARD
BEGIN:DAYLIGHT
TZOFFSETFROM:-0800
TZOFFSETTO:-0700
TZNAME:PDT
DTSTART:20250309T100000
END:DAYLIGHT
BEGIN:STANDARD
TZOFFSETFROM:-0700
TZOFFSETTO:-0800
TZNAME:PST
DTSTART:20251102T090000
END:STANDARD
END:VTIMEZONE
BEGIN:VEVENT
DTSTART;TZID=America/Los_Angeles:20241214T180000
DTEND;TZID=America/Los_Angeles:20241214T213000
DTSTAMP:20260424T063855
CREATED:20241210T195156Z
LAST-MODIFIED:20241210T195156Z
UID:1722-1734199200-1734211800@www.ricksherman.com
SUMMARY:RICK SHERMAN PERFORMS THIS SATURDAY AT VITTORIO'S ITALIAN RESTAURANT
DESCRIPTION:THIS SATURDAY\, DECEMBER 14th\, 6:00pm to 9:30pm\nRick Sherman (guest musicians & vocalists are welcomed)\nIN THE PIANO ROOM AT\nVITTORIO’S RISTORANTE\n5921 Warner Avenue\, Huntington Beach 92649\n(In the shopping center at the Northwest corner of the intersection of Warner Avenue & Springdale\, between Rite Aid and Petco. Please note: also in the same shopping center parking lot\, there is an Arco gas station with the lowest gas prices I’ve found in OC).\n(714) 846-9606 (reservations “in the piano room” are not required but recommended. Call after 4:30pm).  Wonderful Italian cuisine by Chef Francisco\, and “the music isn’t too shabby either”!
URL:https://www.ricksherman.com/event/rick-sherman-performs-this-saturday-at-vittorios-italian-restaurant-5/
LOCATION:CA
END:VEVENT
END:VCALENDAR