BEGIN:VCALENDAR
VERSION:2.0
PRODID:-//RickSherman.com - ECPv6.15.20//NONSGML v1.0//EN
CALSCALE:GREGORIAN
METHOD:PUBLISH
X-WR-CALNAME:RickSherman.com
X-ORIGINAL-URL:https://www.ricksherman.com
X-WR-CALDESC:Events for RickSherman.com
REFRESH-INTERVAL;VALUE=DURATION:PT1H
X-Robots-Tag:noindex
X-PUBLISHED-TTL:PT1H
BEGIN:VTIMEZONE
TZID:America/Los_Angeles
BEGIN:DAYLIGHT
TZOFFSETFROM:-0800
TZOFFSETTO:-0700
TZNAME:PDT
DTSTART:20240310T100000
END:DAYLIGHT
BEGIN:STANDARD
TZOFFSETFROM:-0700
TZOFFSETTO:-0800
TZNAME:PST
DTSTART:20241103T090000
END:STANDARD
BEGIN:DAYLIGHT
TZOFFSETFROM:-0800
TZOFFSETTO:-0700
TZNAME:PDT
DTSTART:20250309T100000
END:DAYLIGHT
BEGIN:STANDARD
TZOFFSETFROM:-0700
TZOFFSETTO:-0800
TZNAME:PST
DTSTART:20251102T090000
END:STANDARD
BEGIN:DAYLIGHT
TZOFFSETFROM:-0800
TZOFFSETTO:-0700
TZNAME:PDT
DTSTART:20260308T100000
END:DAYLIGHT
BEGIN:STANDARD
TZOFFSETFROM:-0700
TZOFFSETTO:-0800
TZNAME:PST
DTSTART:20261101T090000
END:STANDARD
END:VTIMEZONE
BEGIN:VEVENT
DTSTART;TZID=America/Los_Angeles:20250809T180000
DTEND;TZID=America/Los_Angeles:20250809T213000
DTSTAMP:20260423T194713
CREATED:20250710T001653Z
LAST-MODIFIED:20250710T001653Z
UID:1779-1754762400-1754775000@www.ricksherman.com
SUMMARY:RICK PERFORMS AT VITTORIO'S THIS SATURDAY
DESCRIPTION:THIS SATURDAY\, AUGUST 9th\, 6:00pm to 9:30pm\nRick Sherman (in his unique “One Man Band” format. Guest musicians & vocalists are welcomed)\nIN THE PIANO ROOM AT\nVITTORIO’S ITALIAN RESTAURANT\n5921 Warner Avenue\, Huntington Beach 92649\n(In the shopping center at the Northwest corner of the intersection of Warner Avenue & Springdale\, between Rite Aid and Petco. Please note: also in the same shopping center parking lot\, there is an Arco gas station with the lowest gas prices I’ve found in OC).\n(714) 846-9606 (reservations “in the piano room” are not required but recommended. Call after 4:30pm).\nWonderful Italian cuisine by my friend Chef Francisco\, and “the music isn’t too shabby either”!
URL:https://www.ricksherman.com/event/rick-performs-at-vittorios-this-saturday/
LOCATION:Vittorio’s Restaurant and Lounge\, 5921 Warner Avenue\, Huntington Beach\, CA\, 92649\, United States
END:VEVENT
BEGIN:VEVENT
DTSTART;TZID=America/Los_Angeles:20250827T170000
DTEND;TZID=America/Los_Angeles:20250827T203000
DTSTAMP:20260423T194713
CREATED:20250822T062137Z
LAST-MODIFIED:20250822T062137Z
UID:1804-1756314000-1756326600@www.ricksherman.com
SUMMARY:RICK AT BISTANGO THIS WEDNESDAY
DESCRIPTION:Hi All\, \n\n\n\nMy final performance at this wonderful restaurant\, located “just down the street” from my recording studio of the past 17 years\, is coming up “just around the corner”\, so I sincerely hope you can come join me …\n\n\n\n\n… THIS WEDNESDAY\, August 27th\, 5:00pm to 8:30pm\n\n\n\n\nRICK SHERMAN\n(guest professional vocalists &  musicians are welcomed)\nTAKING YOUR REQUESTS\, AND PLAYING YOUR FAVORITES\nIN THE LOUNGE AT BISTANGO RESTAURANT\n19100 Von Karman Avenue\, Irvine\, 92612\n(949) 752-5222 (reservations in the lounge are not required but recommended.\n*************************************************************\nAs always\, thanks for listening (for many of you\, decade after decade). \n\n\n\n\n\n\n\n\n\n\n\n\nBest Regards\,\nRick\nRick Sherman
URL:https://www.ricksherman.com/event/rick-at-bistango-this-wednesday-3/
LOCATION:Bistango\, 19100 Von Karman Avenue\, Irvine\, CA\, 92612\, United States
END:VEVENT
END:VCALENDAR