BEGIN:VCALENDAR
VERSION:2.0
PRODID:-//RickSherman.com - ECPv6.15.20//NONSGML v1.0//EN
CALSCALE:GREGORIAN
METHOD:PUBLISH
X-WR-CALNAME:RickSherman.com
X-ORIGINAL-URL:https://www.ricksherman.com
X-WR-CALDESC:Events for RickSherman.com
REFRESH-INTERVAL;VALUE=DURATION:PT1H
X-Robots-Tag:noindex
X-PUBLISHED-TTL:PT1H
BEGIN:VTIMEZONE
TZID:America/Los_Angeles
BEGIN:DAYLIGHT
TZOFFSETFROM:-0800
TZOFFSETTO:-0700
TZNAME:PDT
DTSTART:20240310T100000
END:DAYLIGHT
BEGIN:STANDARD
TZOFFSETFROM:-0700
TZOFFSETTO:-0800
TZNAME:PST
DTSTART:20241103T090000
END:STANDARD
BEGIN:DAYLIGHT
TZOFFSETFROM:-0800
TZOFFSETTO:-0700
TZNAME:PDT
DTSTART:20250309T100000
END:DAYLIGHT
BEGIN:STANDARD
TZOFFSETFROM:-0700
TZOFFSETTO:-0800
TZNAME:PST
DTSTART:20251102T090000
END:STANDARD
BEGIN:DAYLIGHT
TZOFFSETFROM:-0800
TZOFFSETTO:-0700
TZNAME:PDT
DTSTART:20260308T100000
END:DAYLIGHT
BEGIN:STANDARD
TZOFFSETFROM:-0700
TZOFFSETTO:-0800
TZNAME:PST
DTSTART:20261101T090000
END:STANDARD
END:VTIMEZONE
BEGIN:VEVENT
DTSTART;TZID=America/Los_Angeles:20250907T180000
DTEND;TZID=America/Los_Angeles:20250907T213000
DTSTAMP:20260423T182606
CREATED:20250905T005319Z
LAST-MODIFIED:20250905T005319Z
UID:1809-1757268000-1757280600@www.ricksherman.com
SUMMARY:RICK SHERMAN AT BAYSIDE RESTAURANT THIS SUNDAY
DESCRIPTION:THIS \n\n\nSUNDAY\, SEPTEMBER 7th\, 6:00pm to 9:30pm\n\n\n\n\nRICK SHERMAN     \nTAKING YOUR REQUESTS\, AND PLAYING YOUR FAVORITES\nIN THE LOUNGE AT BAYSIDE RESTAURANT\n900 Bayside Drive\, Newport Beach\, 92660\n(949) 721-1222 (reservations in the lounge are not required but recommended.\n\nThe plan is to see how Sunday evenings in September go. Bayside Restaurant is located next to Pavilions\, across the street from Newport Beach Yacht Club\, and within walking distance from the bridge onto Balboa Island\, so I hope many of my Island friends can come join me!
URL:https://www.ricksherman.com/event/rick-sherman-at-bayside-restaurant-this-sunday/
LOCATION:Bayside Restaurant\, 900 Bayside Drive\, Newport Beach\, CA\, 92660\, United States
END:VEVENT
BEGIN:VEVENT
DTSTART;TZID=America/Los_Angeles:20250913T180000
DTEND;TZID=America/Los_Angeles:20250913T213000
DTSTAMP:20260423T182606
CREATED:20250822T063228Z
LAST-MODIFIED:20250822T063228Z
UID:1806-1757786400-1757799000@www.ricksherman.com
SUMMARY:RICK SHERMAN AT VITTORIO'S THIS SATURDAY
DESCRIPTION:THIS SATURDAY\, SEPTEMBER 13th\, 6:00pm to 9:30pm\nRICK SHERMAN (in his unique “One Man Band” format. Guest musicians & vocalists are welcomed)\nIN THE PIANO ROOM AT\nVITTORIO’S ITALIAN RESTAURANT\n5921 Warner Avenue\, Huntington Beach 92649\n(In the shopping center at the Northwest corner of the intersection of Warner Avenue & Springdale\, between Beef Palace and Petco. Please note: also in the same shopping center parking lot\, there is an Arco gas station with the lowest gas prices I’ve found in OC).\n(714) 846-9606 (reservations “in the piano room” are not required but recommended. Call after 4:30pm).\nWonderful Italian cuisine by my friend Chef Francisco\, and “the music isn’t too shabby either”!
URL:https://www.ricksherman.com/event/rick-sherman-at-vittorios-this-saturday/
LOCATION:Vittorio’s Restaurant and Lounge\, 5921 Warner Avenue\, Huntington Beach\, CA\, 92649\, United States
END:VEVENT
END:VCALENDAR