BEGIN:VCALENDAR
VERSION:2.0
PRODID:-//RickSherman.com - ECPv6.15.20//NONSGML v1.0//EN
CALSCALE:GREGORIAN
METHOD:PUBLISH
X-ORIGINAL-URL:https://www.ricksherman.com
X-WR-CALDESC:Events for RickSherman.com
REFRESH-INTERVAL;VALUE=DURATION:PT1H
X-Robots-Tag:noindex
X-PUBLISHED-TTL:PT1H
BEGIN:VTIMEZONE
TZID:America/Los_Angeles
BEGIN:DAYLIGHT
TZOFFSETFROM:-0800
TZOFFSETTO:-0700
TZNAME:PDT
DTSTART:20240310T100000
END:DAYLIGHT
BEGIN:STANDARD
TZOFFSETFROM:-0700
TZOFFSETTO:-0800
TZNAME:PST
DTSTART:20241103T090000
END:STANDARD
BEGIN:DAYLIGHT
TZOFFSETFROM:-0800
TZOFFSETTO:-0700
TZNAME:PDT
DTSTART:20250309T100000
END:DAYLIGHT
BEGIN:STANDARD
TZOFFSETFROM:-0700
TZOFFSETTO:-0800
TZNAME:PST
DTSTART:20251102T090000
END:STANDARD
BEGIN:DAYLIGHT
TZOFFSETFROM:-0800
TZOFFSETTO:-0700
TZNAME:PDT
DTSTART:20260308T100000
END:DAYLIGHT
BEGIN:STANDARD
TZOFFSETFROM:-0700
TZOFFSETTO:-0800
TZNAME:PST
DTSTART:20261101T090000
END:STANDARD
END:VTIMEZONE
BEGIN:VEVENT
DTSTART;TZID=America/Los_Angeles:20251106T183000
DTEND;TZID=America/Los_Angeles:20251106T203000
DTSTAMP:20260423T153043
CREATED:20251005T223611Z
LAST-MODIFIED:20251005T223611Z
UID:1830-1762453800-1762461000@www.ricksherman.com
SUMMARY:RICK SHERMAN PERFORMS FOR THE OCBJ "GENERAL COUNSEL AWARDS DINNER""
DESCRIPTION:Rick Sherman performs once again this Thursday\, November 6th\, from 6:30pm to 8:30pm\, for the annual Orange County Business Journal’s 2025 “GENERAL COUNSEL AWARDS DINNER”\, at the Irvine Marriott Hotel\, 18000 Von Karman Avenue\, Irvine\, CA. PLEASE NOTE: All attendees must pre-register on the OCBJ website to attend this event.
URL:https://www.ricksherman.com/event/rick-sherman-performs-for-the-ocbj-general-counsel-awards-dinner/
LOCATION:IRVINE MARRIOTT HOTEL\, 18000 Von Karman Avenue\, Irvine\, CA\, 92614\, United States
END:VEVENT
BEGIN:VEVENT
DTSTART;TZID=America/Los_Angeles:20251108T180000
DTEND;TZID=America/Los_Angeles:20251108T213000
DTSTAMP:20260423T153043
CREATED:20251005T221301Z
LAST-MODIFIED:20251005T221301Z
UID:1825-1762624800-1762637400@www.ricksherman.com
SUMMARY:RICK SHERMAN AT VITTORIO'S THIS SATURDAY
DESCRIPTION:THIS SATURDAY\, NOVEMBER 8th\, 6:00pm to 9:30pm\nRICK SHERMAN (in his unique “One Man Band” format. Guest musicians & vocalists are welcomed)\nIN THE PIANO ROOM AT\nVITTORIO’S ITALIAN RESTAURANT\n5921 Warner Avenue\, Huntington Beach 92649\n(In the shopping center at the Northwest corner of the intersection of Warner Avenue & Springdale\, between Beef Palace and Petco. Please note: also in the same shopping center parking lot\, there is an Arco gas station with the lowest gas prices I’ve found in OC).\n(714) 846-9606 (reservations “in the piano room” are not required but recommended. Call after 4:30pm).\nWonderful Italian cuisine by my friend Chef Francisco\, and “the music isn’t too shabby either”!
URL:https://www.ricksherman.com/event/rick-sherman-at-vittorios-this-saturday-3/
LOCATION:Vittorio’s Restaurant and Lounge\, 5921 Warner Avenue\, Huntington Beach\, CA\, 92649\, United States
END:VEVENT
END:VCALENDAR